BEGIN:VCALENDAR
VERSION:2.0
PRODID:-//NEWSPAPER//Deadlines//EN
BEGIN:VEVENT
DTSTART;VALUE=DATE:20260302
DTEND;VALUE=DATE:20260303
SUMMARY:NEWSPAPER — Pitches Due
DESCRIPTION:Submit your story pitch to Jack. Visit newspaper.jackfahey.org for details.
END:VEVENT
BEGIN:VEVENT
DTSTART;VALUE=DATE:20260320
DTEND;VALUE=DATE:20260321
SUMMARY:NEWSPAPER — Check-in
DESCRIPTION:Update Jack on your progress. Sharing a first draft is optional but welcome. Visit newspaper.jackfahey.org for details.
END:VEVENT
BEGIN:VEVENT
DTSTART;VALUE=DATE:20260331
DTEND;VALUE=DATE:20260401
SUMMARY:NEWSPAPER — Final Submissions Due
DESCRIPTION:Final story submissions due to Jack. Visit newspaper.jackfahey.org for details.
END:VEVENT
END:VCALENDAR
